BEGIN:VCALENDAR
VERSION:2.0
PRODID:-//casarochester.org//NONSGML kigkonsult.se iCalcreator 2.30.10//
CALSCALE:GREGORIAN
METHOD:PUBLISH
UID:952e0775-d90e-44a9-b469-7d9bf3bbca7e
X-WR-CALDESC:Our 28th Annual Pat Slimmer Memorial CASA Golf Tournament\, fe
 aturing our 19th Hole Party and Live Auction\, will be held on June 1st\, 
 2026 at Ridgemont Country Club!\n\nTHANK YOU to Gallo & Iacovangelo for 9 
 years of tournament sponsorship!\n\nThe day will include:\n1. 18 holes wit
 h cart\n2. Lunch\n3. Drinks on the course\n4. Golfer gift\n5. Hotdogs at t
 he turn\n6. Marshmallow drive\n7. Putting contest\n8. 19th Hole Party\n\nW
 e hope to see you there!
X-WR-RELCALID:3475a8c5c92f9c0fc7d266c932221395
X-WR-TIMEZONE:America/New_York
BEGIN:VTIMEZONE
TZID:America/New_York
BEGIN:STANDARD
TZNAME:EST
DTSTART:20251102T020000
TZOFFSETFROM:-0400
TZOFFSETTO:-0500
RDATE:20261101T020000
RDATE:20271107T020000
END:STANDARD
BEGIN:DAYLIGHT
TZNAME:EDT
DTSTART:20260308T020000
TZOFFSETFROM:-0500
TZOFFSETTO:-0400
RDATE:20270314T020000
END:DAYLIGHT
END:VTIMEZONE
BEGIN:VEVENT
UID:14edc6a3-d1b7-4e51-85ee-90d01925491d
DTSTAMP:20260423T191026Z
DESCRIPTION:Our 28th Annual Pat Slimmer Memorial CASA Golf Tournament\, fea
 turing our 19th Hole Party and Live Auction\, will be held on June 1st\, 2
 026 at Ridgemont Country Club!\n\nTHANK YOU to Gallo & Iacovangelo for 9 y
 ears of tournament sponsorship!\n\nThe day will include:\n1. 18 holes with
  cart\n2. Lunch\n3. Drinks on the course\n4. Golfer gift\n5. Hotdogs at th
 e turn\n6. Marshmallow drive\n7. Putting contest\n8. 19th Hole Party\n\nWe
  hope to see you there!
DTSTART;TZID=America/New_York:20260601T110000
DTEND;TZID=America/New_York:20260601T170000
LOCATION:Ridgemont Country Club\, 3717 W Ridge Rd\, Rochester\, NY 14626 US
SUMMARY:28th Annual Pat Slimmer Memorial CASA Golf Tournament
END:VEVENT
END:VCALENDAR
