BEGIN:VCALENDAR
VERSION:2.0
PRODID:-//casarochester.org//NONSGML kigkonsult.se iCalcreator 2.30.10//
CALSCALE:GREGORIAN
METHOD:PUBLISH
UID:46c28f38-5ba4-4523-badc-c4be25384d32
X-WR-CALDESC:
X-WR-RELCALID:200277097906c0f3d05002fc215fb87c
X-WR-TIMEZONE:America/New_York
BEGIN:VTIMEZONE
TZID:America/New_York
BEGIN:STANDARD
TZNAME:EST
DTSTART:20211107T020000
TZOFFSETFROM:-0400
TZOFFSETTO:-0500
RDATE:20221106T020000
END:STANDARD
BEGIN:DAYLIGHT
TZNAME:EDT
DTSTART:20220313T020000
TZOFFSETFROM:-0500
TZOFFSETTO:-0400
RDATE:20230312T020000
END:DAYLIGHT
END:VTIMEZONE
BEGIN:VEVENT
UID:124ad089-9c4c-4923-b3ca-ecf30f4a32f8
DTSTAMP:20260420T043234Z
DESCRIPTION:
DTSTART;TZID=America/New_York:20220328T170000
DTEND;TZID=America/New_York:20220328T183000
LOCATION:by Zoom
SUMMARY:Board of Directors Meeting
END:VEVENT
END:VCALENDAR
