BEGIN:VCALENDAR
VERSION:2.0
PRODID:-//casarochester.org//NONSGML kigkonsult.se iCalcreator 2.30.10//
CALSCALE:GREGORIAN
METHOD:PUBLISH
UID:579f6939-3753-4f64-ab4e-8b42db276e0d
X-WR-CALDESC:
X-WR-RELCALID:da3a9aab26f94d3a94d432c09fc09f4b
X-WR-TIMEZONE:America/New_York
BEGIN:VTIMEZONE
TZID:America/New_York
BEGIN:STANDARD
TZNAME:EST
DTSTART:20211107T020000
TZOFFSETFROM:-0400
TZOFFSETTO:-0500
RDATE:20221106T020000
END:STANDARD
BEGIN:DAYLIGHT
TZNAME:EDT
DTSTART:20220313T020000
TZOFFSETFROM:-0500
TZOFFSETTO:-0400
RDATE:20230312T020000
END:DAYLIGHT
END:VTIMEZONE
BEGIN:VEVENT
UID:3a9d92a8-65b6-46b6-95e1-11ee56c43ec9
DTSTAMP:20260420T043346Z
DESCRIPTION:
DTSTART;TZID=America/New_York:20220316T170000
DTEND;TZID=America/New_York:20220316T203000
LOCATION:
SUMMARY:Flex Training
END:VEVENT
END:VCALENDAR
