BEGIN:VCALENDAR
VERSION:2.0
PRODID:-//casarochester.org//NONSGML kigkonsult.se iCalcreator 2.30.10//
CALSCALE:GREGORIAN
METHOD:PUBLISH
UID:ba6f2deb-6d9a-470f-a1c3-21fb1a356081
X-WR-CALDESC:
X-WR-RELCALID:9b4bf63162b6f768401e3f63f866d379
X-WR-TIMEZONE:America/New_York
BEGIN:VTIMEZONE
TZID:America/New_York
BEGIN:STANDARD
TZNAME:EST
DTSTART:20211107T020000
TZOFFSETFROM:-0400
TZOFFSETTO:-0500
RDATE:20221106T020000
END:STANDARD
BEGIN:DAYLIGHT
TZNAME:EDT
DTSTART:20210314T020000
TZOFFSETFROM:-0500
TZOFFSETTO:-0400
RDATE:20220313T020000
RDATE:20230312T020000
END:DAYLIGHT
END:VTIMEZONE
BEGIN:VEVENT
UID:8301d094-2eaf-49d5-ac0b-7f144924e1bc
DTSTAMP:20260420T043705Z
DESCRIPTION:
DTSTART;TZID=America/New_York:20220310T173000
DTEND;TZID=America/New_York:20220310T200000
LOCATION:
SUMMARY:40 Cheers for Forty Years
END:VEVENT
END:VCALENDAR
