BEGIN:VCALENDAR
VERSION:2.0
PRODID:-//casarochester.org//NONSGML kigkonsult.se iCalcreator 2.30.10//
CALSCALE:GREGORIAN
METHOD:PUBLISH
UID:3e7c3d3e-ee4b-4447-bf83-11d2d5729f82
X-WR-CALDESC:
X-WR-RELCALID:aa89d46d343b1cfcfb30d7c6de10734c
X-WR-TIMEZONE:America/New_York
BEGIN:VTIMEZONE
TZID:America/New_York
BEGIN:STANDARD
TZNAME:EST
DTSTART:20211107T020000
TZOFFSETFROM:-0400
TZOFFSETTO:-0500
RDATE:20221106T020000
END:STANDARD
BEGIN:DAYLIGHT
TZNAME:EDT
DTSTART:20210314T020000
TZOFFSETFROM:-0500
TZOFFSETTO:-0400
RDATE:20220313T020000
RDATE:20230312T020000
END:DAYLIGHT
END:VTIMEZONE
BEGIN:VEVENT
UID:de2c2a50-305a-4e84-9bbc-430fb8a1677e
DTSTAMP:20260420T043533Z
DESCRIPTION:
DTSTART;TZID=America/New_York:20220309T170000
DTEND;TZID=America/New_York:20220309T203000
LOCATION:
SUMMARY:Flex Training
END:VEVENT
END:VCALENDAR
