BEGIN:VCALENDAR
VERSION:2.0
PRODID:-//casarochester.org//NONSGML kigkonsult.se iCalcreator 2.30.10//
CALSCALE:GREGORIAN
METHOD:PUBLISH
UID:848b5b45-2d2c-4cf1-a7a0-277358697ed7
X-WR-CALDESC:
X-WR-RELCALID:aaad727716f3fef911202b78718da115
X-WR-TIMEZONE:America/New_York
BEGIN:VTIMEZONE
TZID:America/New_York
BEGIN:STANDARD
TZNAME:EST
DTSTART:20211107T020000
TZOFFSETFROM:-0400
TZOFFSETTO:-0500
RDATE:20221106T020000
END:STANDARD
BEGIN:DAYLIGHT
TZNAME:EDT
DTSTART:20210314T020000
TZOFFSETFROM:-0500
TZOFFSETTO:-0400
RDATE:20220313T020000
RDATE:20230312T020000
END:DAYLIGHT
END:VTIMEZONE
BEGIN:VEVENT
UID:d8134905-2e71-486e-bac5-4a6f1179dd7e
DTSTAMP:20260420T043533Z
DESCRIPTION:
DTSTART;TZID=America/New_York:20220302T170000
DTEND;TZID=America/New_York:20220302T203000
LOCATION:
SUMMARY:Flex Training
END:VEVENT
END:VCALENDAR
