BEGIN:VCALENDAR
VERSION:2.0
PRODID:-//casarochester.org//NONSGML kigkonsult.se iCalcreator 2.30.10//
CALSCALE:GREGORIAN
METHOD:PUBLISH
UID:c09e137a-74b7-4198-bc3f-e92fb558b4e4
X-WR-CALDESC:
X-WR-RELCALID:f67254522bec453bd6d7d0da49fa89a8
X-WR-TIMEZONE:America/New_York
BEGIN:VTIMEZONE
TZID:America/New_York
BEGIN:STANDARD
TZNAME:EST
DTSTART:20211107T020000
TZOFFSETFROM:-0400
TZOFFSETTO:-0500
RDATE:20221106T020000
END:STANDARD
BEGIN:DAYLIGHT
TZNAME:EDT
DTSTART:20210314T020000
TZOFFSETFROM:-0500
TZOFFSETTO:-0400
RDATE:20220313T020000
RDATE:20230312T020000
END:DAYLIGHT
END:VTIMEZONE
BEGIN:VEVENT
UID:a2877a4c-0d07-4ac3-b0ba-ad4afb3e6e15
DTSTAMP:20260420T024555Z
DESCRIPTION:
DTSTART;TZID=America/New_York:20220223T170000
DTEND;TZID=America/New_York:20220223T203000
LOCATION:
SUMMARY:Flex Training
END:VEVENT
END:VCALENDAR
