BEGIN:VCALENDAR
VERSION:2.0
PRODID:-//casarochester.org//NONSGML kigkonsult.se iCalcreator 2.30.10//
CALSCALE:GREGORIAN
METHOD:PUBLISH
UID:c86a2ada-bc10-43e2-9d7f-6ca3839bdb48
X-WR-CALDESC:
X-WR-RELCALID:0b70563150b5ab2b51dae4334b1b1b4d
X-WR-TIMEZONE:America/New_York
BEGIN:VTIMEZONE
TZID:America/New_York
BEGIN:STANDARD
TZNAME:EST
DTSTART:20211107T020000
TZOFFSETFROM:-0400
TZOFFSETTO:-0500
RDATE:20221106T020000
END:STANDARD
BEGIN:DAYLIGHT
TZNAME:EDT
DTSTART:20210314T020000
TZOFFSETFROM:-0500
TZOFFSETTO:-0400
RDATE:20220313T020000
RDATE:20230312T020000
END:DAYLIGHT
END:VTIMEZONE
BEGIN:VEVENT
UID:d6040cf4-79f5-4982-84aa-f5c7b2f664ff
DTSTAMP:20260420T025141Z
DESCRIPTION:
DTSTART;TZID=America/New_York:20220216T170000
DTEND;TZID=America/New_York:20220216T203000
LOCATION:
SUMMARY:Flex Training
END:VEVENT
END:VCALENDAR
