BEGIN:VCALENDAR
VERSION:2.0
PRODID:-//casarochester.org//NONSGML kigkonsult.se iCalcreator 2.30.10//
CALSCALE:GREGORIAN
METHOD:PUBLISH
UID:86a001f6-d6c1-4bc6-84b6-beab56deff10
X-WR-CALDESC:
X-WR-RELCALID:183787e85df6bc0247b5c912f1928367
X-WR-TIMEZONE:America/New_York
BEGIN:VTIMEZONE
TZID:America/New_York
BEGIN:STANDARD
TZNAME:EST
DTSTART:20211107T020000
TZOFFSETFROM:-0400
TZOFFSETTO:-0500
RDATE:20221106T020000
END:STANDARD
BEGIN:DAYLIGHT
TZNAME:EDT
DTSTART:20210314T020000
TZOFFSETFROM:-0500
TZOFFSETTO:-0400
RDATE:20220313T020000
RDATE:20230312T020000
END:DAYLIGHT
END:VTIMEZONE
BEGIN:VEVENT
UID:6da2018c-993b-4f1d-b86b-4ed18e39c792
DTSTAMP:20260420T024247Z
DESCRIPTION:
DTSTART;TZID=America/New_York:20220202T170000
DTEND;TZID=America/New_York:20220202T203000
LOCATION:
SUMMARY:Flex Training
END:VEVENT
END:VCALENDAR
