BEGIN:VCALENDAR
VERSION:2.0
PRODID:-//casarochester.org//NONSGML kigkonsult.se iCalcreator 2.30.10//
CALSCALE:GREGORIAN
METHOD:PUBLISH
UID:914c93c1-914c-4fee-977e-344786d51b82
X-WR-CALDESC:
X-WR-RELCALID:7976248d5bd3074798c3e70068ba0f18
X-WR-TIMEZONE:America/New_York
BEGIN:VTIMEZONE
TZID:America/New_York
BEGIN:STANDARD
TZNAME:EST
DTSTART:20201101T020000
TZOFFSETFROM:-0400
TZOFFSETTO:-0500
RDATE:20211107T020000
RDATE:20221106T020000
END:STANDARD
BEGIN:DAYLIGHT
TZNAME:EDT
DTSTART:20210314T020000
TZOFFSETFROM:-0500
TZOFFSETTO:-0400
RDATE:20220313T020000
RDATE:20230312T020000
END:DAYLIGHT
END:VTIMEZONE
BEGIN:VEVENT
UID:4b5e8d15-95e3-4bf6-802d-f23f8a91ae0b
DTSTAMP:20260420T004304Z
DESCRIPTION:
DTSTART;TZID=America/New_York:20210927T170000
DTEND;TZID=America/New_York:20210927T183000
LOCATION:by Zoom
SUMMARY:Board of Directors Meeting
END:VEVENT
END:VCALENDAR
