BEGIN:VCALENDAR
VERSION:2.0
PRODID:-//casarochester.org//NONSGML kigkonsult.se iCalcreator 2.30.10//
CALSCALE:GREGORIAN
METHOD:PUBLISH
UID:ce36b60c-99dd-4117-90a9-65e389da5a05
X-WR-CALDESC:
X-WR-RELCALID:92c0d47d38ab2bc41e7909d7a6b8913b
X-WR-TIMEZONE:America/New_York
BEGIN:VTIMEZONE
TZID:America/New_York
BEGIN:STANDARD
TZNAME:EST
DTSTART:20201101T020000
TZOFFSETFROM:-0400
TZOFFSETTO:-0500
RDATE:20211107T020000
RDATE:20221106T020000
END:STANDARD
BEGIN:DAYLIGHT
TZNAME:EDT
DTSTART:20210314T020000
TZOFFSETFROM:-0500
TZOFFSETTO:-0400
RDATE:20220313T020000
END:DAYLIGHT
END:VTIMEZONE
BEGIN:VEVENT
UID:d0f737fa-d988-45af-b656-8a2e00c98e08
DTSTAMP:20260420T042851Z
DESCRIPTION:
DTSTART;TZID=America/New_York:20210726T170000
DTEND;TZID=America/New_York:20210726T183000
LOCATION:by Zoom
SUMMARY:Board of Directors Meeting
END:VEVENT
END:VCALENDAR
