BEGIN:VCALENDAR
VERSION:2.0
PRODID:-//casarochester.org//NONSGML kigkonsult.se iCalcreator 2.30.10//
CALSCALE:GREGORIAN
METHOD:PUBLISH
UID:f3d2dcb3-173e-47ab-b87c-06435e919d94
X-WR-CALDESC:
X-WR-RELCALID:4350102b082c2eebd096cb9fb39c5b75
X-WR-TIMEZONE:America/New_York
BEGIN:VTIMEZONE
TZID:America/New_York
BEGIN:STANDARD
TZNAME:EST
DTSTART:20201101T020000
TZOFFSETFROM:-0400
TZOFFSETTO:-0500
RDATE:20211107T020000
RDATE:20221106T020000
END:STANDARD
BEGIN:DAYLIGHT
TZNAME:EDT
DTSTART:20210314T020000
TZOFFSETFROM:-0500
TZOFFSETTO:-0400
RDATE:20220313T020000
END:DAYLIGHT
END:VTIMEZONE
BEGIN:VEVENT
UID:2b30cbe4-25c9-4127-bd27-ec231e9e8138
DTSTAMP:20260420T060126Z
DESCRIPTION:
DTSTART;TZID=America/New_York:20210628T170000
DTEND;TZID=America/New_York:20210628T183000
LOCATION:by Zoom
SUMMARY:Board of Directors Meeting
END:VEVENT
END:VCALENDAR
