BEGIN:VCALENDAR
VERSION:2.0
PRODID:-//casarochester.org//NONSGML kigkonsult.se iCalcreator 2.30.10//
CALSCALE:GREGORIAN
METHOD:PUBLISH
UID:3a777a3a-c640-4dca-8d8a-ab40120806fe
X-WR-CALDESC:
X-WR-RELCALID:6da3129702a6fa3bc824c1c520924bd9
X-WR-TIMEZONE:America/New_York
BEGIN:VTIMEZONE
TZID:America/New_York
BEGIN:STANDARD
TZNAME:EST
DTSTART:20201101T020000
TZOFFSETFROM:-0400
TZOFFSETTO:-0500
RDATE:20211107T020000
END:STANDARD
BEGIN:DAYLIGHT
TZNAME:EDT
DTSTART:20210314T020000
TZOFFSETFROM:-0500
TZOFFSETTO:-0400
RDATE:20220313T020000
END:DAYLIGHT
END:VTIMEZONE
BEGIN:VEVENT
UID:49b4ea98-f270-4402-a9a2-57c6fa17e6ac
DTSTAMP:20260420T110018Z
DESCRIPTION:
DTSTART;TZID=America/New_York:20210322T170000
DTEND;TZID=America/New_York:20210322T183000
LOCATION:by Zoom
SUMMARY:Board of Directors Meeting
END:VEVENT
END:VCALENDAR
